BEGIN:VCALENDAR
VERSION:2.0
PRODID:-//ChamberMaster//Event Calendar 2.0//EN
METHOD:PUBLISH
X-PUBLISHED-TTL:P3D
REFRESH-INTERVAL:P3D
CALSCALE:GREGORIAN
BEGIN:VEVENT
DTSTART:20180616T163000Z
DTEND:20180616T173000Z
X-MICROSOFT-CDO-ALLDAYEVENT:FALSE
SUMMARY:Father's Day with Friendship Frog
DESCRIPTION:Join Joni and Friendship Frog to paint DAD a Father's Day canvas with a tie to keep forever! Countryside Flower Shop is hosting the event\, Joni\, the creator of the Characters of Character will guide your child to paint and your child will design the tie on Friendship Frog for Father's Day! Space is limited\, you MUST register. Kids 1-5 with an adult Kids 6-10 can paint on their own
X-ALT-DESC;FMTTYPE=text/html:Join Joni and Friendship Frog to paint DAD a Father&#39\;s Day canvas with a tie to keep forever! Countryside Flower Shop is hosting the event\, Joni\, the creator of the Characters of Character will guide your child to paint and your child will design the tie on Friendship Frog for Father&#39\;s Day! Space is limited\, you MUST register. Kids 1-5 with an adult Kids 6-10 can paint on their own
LOCATION:Countryside Flower Shop
UID:e.2066.1114
SEQUENCE:3
DTSTAMP:20260425T221918Z
URL:https://dev.chainolakeschamber.com/events/details/father-s-day-with-friendship-frog-1114
END:VEVENT

END:VCALENDAR
