BEGIN:VCALENDAR
VERSION:2.0
PRODID:-//ChamberMaster//Event Calendar 2.0//EN
METHOD:PUBLISH
X-PUBLISHED-TTL:P3D
REFRESH-INTERVAL:P3D
CALSCALE:GREGORIAN
BEGIN:VEVENT
DTSTART:20181014T170000Z
DTEND:20181014T210000Z
X-MICROSOFT-CDO-ALLDAYEVENT:FALSE
SUMMARY:Farmapalooza
DESCRIPTION:Farmapalooza is a family friendly fundraiser for GiGi's Playhouse\, McHenry. It features a pig roast\, face and pumpkin painting\, visit with farm animals and much more! Purchase tickets on our website!
X-ALT-DESC;FMTTYPE=text/html:Farmapalooza is a family friendly fundraiser for GiGi&#39\;s Playhouse\, McHenry. It features a pig roast\, face and pumpkin painting\, visit with farm animals and much more! Purchase tickets on our website!
LOCATION:Terra Vitae Farm 2719 Greenwood Rd. Woodstock\, IL
UID:e.2066.1199
SEQUENCE:3
DTSTAMP:20260425T164903Z
URL:https://dev.chainolakeschamber.com/events/details/farmapalooza-1199
END:VEVENT

END:VCALENDAR
