BEGIN:VCALENDAR
VERSION:2.0
PRODID:-//ChamberMaster//Event Calendar 2.0//EN
METHOD:PUBLISH
X-PUBLISHED-TTL:P3D
REFRESH-INTERVAL:P3D
CALSCALE:GREGORIAN
BEGIN:VEVENT
DTSTART:20230714T180000Z
DTEND:20230714T190000Z
X-MICROSOFT-CDO-ALLDAYEVENT:FALSE
SUMMARY:Family Fun Friday
DESCRIPTION:FREE Family Fun Fridays - Animal Quest - A fun\, exciting\, and informative animal show!\n\nShow will be held on the Round Lake Beach Cultural & Civic Center's outdoor stage. Bring your chair or blanket and join us!
X-ALT-DESC;FMTTYPE=text/html:<strong><span style="color:#008000">FREE Family Fun Fridays -&nbsp\;Animal Quest - A fun\, exciting\, and informative animal show!</span></strong><br />\n<span style="color:#000000">Show will be held on the Round Lake Beach Cultural &amp\; Civic Center&#39\;s outdoor stage. Bring your chair or blanket and join us!</span><br />\n&nbsp\;
LOCATION:Village of Round Lake Beah Cultural & Civic Center 2007 Civic Center Way Round Lake Beach\, IL 60073
UID:e.2066.5289
SEQUENCE:3
DTSTAMP:20260419T153115Z
URL:https://dev.chainolakeschamber.com/events/details/family-fun-friday-5289
END:VEVENT

END:VCALENDAR
