BEGIN:VCALENDAR
VERSION:2.0
PRODID:-//ChamberMaster//Event Calendar 2.0//EN
METHOD:PUBLISH
X-PUBLISHED-TTL:P3D
REFRESH-INTERVAL:P3D
CALSCALE:GREGORIAN
BEGIN:VEVENT
DTSTART:20230827T200000Z
DTEND:20230827T211500Z
X-MICROSOFT-CDO-ALLDAYEVENT:FALSE
SUMMARY:Family Edition Yogapaca
DESCRIPTION:Family Yoga with the Alpacas is a fun way to connect to family and nature.\n\n \n\nBring your family and join us for this exciting Sweet Feet Yoga experience at the beautiful Magic Meadows Alpaca Farm in Wonder Lake! It's Family Yoga style!! Kids 4 years old and older are invited to join their parent/caregiver out on the Alpaca Farm!\n\nCome meet Sally's sweet female alpacas\, learn about her farm\, and enjoy a family yoga class with Dana while the alpacas join in the fun too!\n\nLimited space available...be sure to register now!\n\nAlso offering alpaca theme products for purchase.
X-ALT-DESC;FMTTYPE=text/html:<div>Family Yoga with the Alpacas is a fun way to connect to family and nature.</div>\n\n<div>&nbsp\;</div>\n\n<div>Bring your family and join us for this exciting Sweet Feet Yoga experience at the beautiful Magic Meadows Alpaca Farm in Wonder Lake! It&#39\;s Family Yoga style!! Kids 4 years old and older are invited to join their parent/caregiver out on the Alpaca Farm!</div>\n\n<p>Come meet Sally&#39\;s sweet female alpacas\, learn about her farm\, and enjoy a family yoga class with Dana while the alpacas join in the fun too!</p>\n\n<p>Limited space available...be sure to register now!</p>\n\n<p>Also offering alpaca theme products for purchase.</p>\n\n<p>&nbsp\;</p>\n
LOCATION:Magic Meadows Alpacas 9502 Thayer Road Wonder Lake Il 60097
UID:e.2066.5401
SEQUENCE:3
DTSTAMP:20260419T134357Z
URL:https://dev.chainolakeschamber.com/events/details/family-edition-yogapaca-5401
END:VEVENT

END:VCALENDAR
