BEGIN:VCALENDAR
VERSION:2.0
PRODID:-//ChamberMaster//Event Calendar 2.0//EN
METHOD:PUBLISH
X-PUBLISHED-TTL:P3D
REFRESH-INTERVAL:P3D
CALSCALE:GREGORIAN
BEGIN:VEVENT
DTSTART:20180911T230000Z
DTEND:20180912T003000Z
X-MICROSOFT-CDO-ALLDAYEVENT:FALSE
SUMMARY:Fall Gathering- Tour of Hackmatack National Wildlife Refug
DESCRIPTION:This event is sponsored by Friends of Hackmatack NWR\, a non profit group whose purpose is to connect people to the refuge and conserve and enhance the natural and cultural resources\, rural character and scenic beauty of the refuge.
X-ALT-DESC;FMTTYPE=text/html:This event is sponsored by Friends of Hackmatack NWR\, a non profit group whose purpose is to connect people to the refuge and conserve and enhance the natural and cultural resources\, rural character and scenic beauty of the refuge.
LOCATION:The Genoa City Tract\, just northeast of Genoa City on Highway H is the location of this unique opportunity. This 86-acre tract was acquired by Ducks Unlimited in 2013 who restored farm fields on the site to wetland and prairie habitat. The site also features a woodland area with an amazingly intact and diverse understory of native woodland flora. The property is managed by the U.S. Fish and Wildlife Service as an official piece of Hackmatack National Wildlife Refuge. Turn in the lane at the new Hackmatack National Wildlife Refuge sign and follow the signs to parking.
UID:e.2066.1193
SEQUENCE:3
DTSTAMP:20260425T180911Z
URL:https://dev.chainolakeschamber.com/events/details/fall-gathering-tour-of-hackmatack-national-wildlife-refug-1193
END:VEVENT

END:VCALENDAR
