BEGIN:VCALENDAR
VERSION:2.0
PRODID:-//ChamberMaster//Event Calendar 2.0//EN
METHOD:PUBLISH
X-PUBLISHED-TTL:P3D
REFRESH-INTERVAL:P3D
CALSCALE:GREGORIAN
BEGIN:VEVENT
DTSTART:20221002T150000Z
DTEND:20221002T200000Z
X-MICROSOFT-CDO-ALLDAYEVENT:FALSE
SUMMARY:FALL Festival - Grant Township & Village of Fox Lake
DESCRIPTION:Join in all the Fall fun that Grant Township and the Village of Fox Lake have planned!
X-ALT-DESC;FMTTYPE=text/html:Join in all the Fall fun that Grant Township and the Village of Fox Lake have planned!
LOCATION:26725 W Molidor Rd.\, Ingleside IL
UID:e.2066.4626
SEQUENCE:3
DTSTAMP:20260422T112032Z
URL:https://dev.chainolakeschamber.com/events/details/fall-festival-grant-township-village-of-fox-lake-4626
END:VEVENT

END:VCALENDAR
