BEGIN:VCALENDAR
VERSION:2.0
PRODID:-//ChamberMaster//Event Calendar 2.0//EN
METHOD:PUBLISH
X-PUBLISHED-TTL:P3D
REFRESH-INTERVAL:P3D
CALSCALE:GREGORIAN
BEGIN:VEVENT
DTSTART:20191006T150000Z
DTEND:20191006T200000Z
X-MICROSOFT-CDO-ALLDAYEVENT:FALSE
SUMMARY:Fall Fest - Fox Lake and Grant Township
DESCRIPTION:DJ Bob - Soundwave Entertainment l  Vendors l  Crafters l  Food l Refreshments l  Patch 22 Petting Zoo - Pony Rides l  Hay Rides l RC Juggle Entertainment l Inflatables by Bella's Bouncies l  FL Lions Club - Mobile Screening Unit l  Pie Eating Contest l  Busy Brain Museum l  Chicagokite Exhibit l  Pumpkin Carving
X-ALT-DESC;FMTTYPE=text/html:DJ Bob - Soundwave Entertainment l&nbsp\; Vendors l&nbsp\; Crafters l&nbsp\; Food l Refreshments l&nbsp\; Patch 22 Petting Zoo - Pony Rides l&nbsp\; Hay Rides l RC Juggle Entertainment l Inflatables by Bella&rsquo\;s Bouncies l&nbsp\; FL Lions Club - Mobile Screening Unit l&nbsp\; Pie Eating Contest l&nbsp\; Busy Brain Museum l&nbsp\; Chicagokite Exhibit l&nbsp\; Pumpkin Carving
LOCATION:Pancake breakfast will be held at Fox Lake Fire Protection District Station 3 26603 W. Molidor Rd Ingleside 8am -11am Adults .........................$8.00 Seniors and Children...$6.00 Children 3 and under are FREE Touch a truck - Grant Township Highway Dept Display and Demo - Fox Lake Police Dept Emergency Vehicle Display and Demo- Fox Lake Fire Protection Dist
UID:e.2066.3140
SEQUENCE:3
DTSTAMP:20260424T233415Z
URL:https://dev.chainolakeschamber.com/events/details/fall-fest-fox-lake-and-grant-township-3140
END:VEVENT

END:VCALENDAR
