BEGIN:VCALENDAR
VERSION:2.0
PRODID:-//ChamberMaster//Event Calendar 2.0//EN
METHOD:PUBLISH
X-PUBLISHED-TTL:P3D
REFRESH-INTERVAL:P3D
CALSCALE:GREGORIAN
BEGIN:VEVENT
DTSTART:20210225T140000Z
DTEND:20210225T160000Z
X-MICROSOFT-CDO-ALLDAYEVENT:FALSE
SUMMARY:External Funding Options for Small Business
DESCRIPTION:Once internal bootstrapping options are exhausted\, businesses should consider other external sources of funding. Topics include:   Equity (direct public funding offerings\, Intrastate Rule 147\, etc.)   Gift Capital (crowdfunding\, SBA\, state/local assistance\, etc.)   Debt (non-traditional lenders\, traditional bank loans\, etc.)
X-ALT-DESC;FMTTYPE=text/html:Once internal bootstrapping options are exhausted\, businesses should consider other external sources of funding. Topics include: &bull\; Equity (direct public funding offerings\, Intrastate Rule 147\, etc.) &bull\; Gift Capital (crowdfunding\, SBA\, state/local assistance\, etc.) &bull\; Debt (non-traditional lenders\, traditional bank loans\, etc.)
LOCATION:Live Zoom
UID:e.2066.3699
SEQUENCE:3
DTSTAMP:20260423T193355Z
URL:https://dev.chainolakeschamber.com/events/details/external-funding-options-for-small-business-3699
END:VEVENT

END:VCALENDAR
