BEGIN:VCALENDAR
VERSION:2.0
PRODID:-//ChamberMaster//Event Calendar 2.0//EN
METHOD:PUBLISH
X-PUBLISHED-TTL:P3D
REFRESH-INTERVAL:P3D
CALSCALE:GREGORIAN
BEGIN:VEVENT
DTSTART:20210422T140000Z
DTEND:20210422T160000Z
X-MICROSOFT-CDO-ALLDAYEVENT:FALSE
SUMMARY:External Funding: Methods and sources of capital to fund your business
DESCRIPTION:When internal bootstrapping measures have run out\, you need to look at your external funding options. Realize that some options are easier\, or more likely to succeed\, than others. You will need to assess what is available to you\, and makes the best fit for your business. Learn about:   Loans from Commercial-Rate Lenders   Loans from Motivated (High-Cost) Lenders   Loans or Investments from Family/Friends/Fools and Trade Credit   Owner Loans/Retained Earnings/Owners Equity Investments (when the business is generating a positive cash flow   Owner Capital (personal savings\, home equity credit line\, etc.)
X-ALT-DESC;FMTTYPE=text/html:When internal bootstrapping measures have run out\, you need to look at your external funding options. Realize that some options are easier\, or more likely to succeed\, than others. You will need to assess what is available to you\, and makes the best fit for your business. Learn about: &bull\; Loans from Commercial-Rate Lenders &bull\; Loans from Motivated (High-Cost) Lenders &bull\; Loans or Investments from Family/Friends/Fools and Trade Credit &bull\; Owner Loans/Retained Earnings/Owners Equity Investments (when the business is generating a positive cash flow &bull\; Owner Capital (personal savings\, home equity credit line\, etc.)
LOCATION:Live Zoom
UID:e.2066.3922
SEQUENCE:3
DTSTAMP:20260423T160438Z
URL:https://dev.chainolakeschamber.com/events/details/external-funding-methods-and-sources-of-capital-to-fund-your-business-3922
END:VEVENT

END:VCALENDAR
