BEGIN:VCALENDAR
VERSION:2.0
PRODID:-//ChamberMaster//Event Calendar 2.0//EN
METHOD:PUBLISH
X-PUBLISHED-TTL:P3D
REFRESH-INTERVAL:P3D
CALSCALE:GREGORIAN
BEGIN:VEVENT
DTSTART:20220217T160000Z
DTEND:20220217T171500Z
X-MICROSOFT-CDO-ALLDAYEVENT:FALSE
SUMMARY:Exporting to Canada: Illinois' #1 Export Market
DESCRIPTION:Canada is Illinois' leading export market. Geographical proximity and similar business and distribution practices make Canada an ideal export market for Illinois companies. Nevertheless\, companies are exposed to the rigors of international trade. In this webinar\, we will discuss trends in the post-COVID Canadian economy and changes under the USMCA\, which will impact Illinois exports to Canada\, including the importance of e-commerce. We'll also cover the best export prospects for Illinois companies to export to Canada\, strategies to enhance exporter success and DCEO/OTI programs to assist Illinois companies with respect to their export initiatives. Registration required.
X-ALT-DESC;FMTTYPE=text/html:Canada is Illinois&rsquo\; leading export market. Geographical proximity and similar business and distribution practices make Canada an ideal export market for Illinois companies. Nevertheless\, companies are exposed to the rigors of international trade. In this webinar\, we will discuss trends in the post-COVID Canadian economy and changes under the USMCA\, which will impact Illinois exports to Canada\, including the importance of e-commerce. We&rsquo\;ll also cover the best export prospects for Illinois companies to export to Canada\, strategies to enhance exporter success and DCEO/OTI programs to assist Illinois companies with respect to their export initiatives. Registration required.
LOCATION:Online via Zoom.
UID:e.2066.4165
SEQUENCE:3
DTSTAMP:20260423T002428Z
URL:https://dev.chainolakeschamber.com/events/details/exporting-to-canada-illinois-1-export-market-4165
END:VEVENT

END:VCALENDAR
