BEGIN:VCALENDAR
VERSION:2.0
PRODID:-//ChamberMaster//Event Calendar 2.0//EN
METHOD:PUBLISH
X-PUBLISHED-TTL:P3D
REFRESH-INTERVAL:P3D
CALSCALE:GREGORIAN
BEGIN:VEVENT
DTSTART:20230224T150000Z
DTEND:20230224T163000Z
X-MICROSOFT-CDO-ALLDAYEVENT:FALSE
SUMMARY:Expand Your Business with Effective Social Media Marketing
DESCRIPTION:If you are ready to start expanding your business in 2023 with effective social media marketing strategies then this series is for you! The Expand Your Business with Effective Social Media Marketing Strategies is a five-week series teaching you the what and how to take your marketing to the next level. This series includes the following workshops that are each 90-minutes in length: 1) Getting Started with Facebook & Instagram Advertising 2) Creating a Facebook LIVE Show that Boosts Your Business 3) How to Effectively Leverage LinkedIn for Your Small Business 4) How to Use Video to Drastically Improve Your Social Media Strategy 5) Using TikTok to Expand Your Business Reach
X-ALT-DESC;FMTTYPE=text/html:If you are ready to start expanding your business in 2023 with effective social media marketing strategies then this series is for you! The Expand Your Business with Effective Social Media Marketing Strategies is a five-week series teaching you the what and how to take your marketing to the next level. This series includes the following workshops that are each 90-minutes in length: 1) Getting Started with Facebook &amp\; Instagram Advertising 2) Creating a Facebook LIVE Show that Boosts Your Business 3) How to Effectively Leverage LinkedIn for Your Small Business 4) How to Use Video to Drastically Improve Your Social Media Strategy 5) Using TikTok to Expand Your Business Reach
LOCATION:Live Zoom
UID:e.2066.4948
SEQUENCE:3
DTSTAMP:20260419T223354Z
URL:https://dev.chainolakeschamber.com/events/details/expand-your-business-with-effective-social-media-marketing-4948
END:VEVENT

END:VCALENDAR
