BEGIN:VCALENDAR
VERSION:2.0
PRODID:-//ChamberMaster//Event Calendar 2.0//EN
METHOD:PUBLISH
X-PUBLISHED-TTL:P3D
REFRESH-INTERVAL:P3D
CALSCALE:GREGORIAN
BEGIN:VEVENT
DTSTART:20220309T143000Z
DTEND:20220309T153000Z
X-MICROSOFT-CDO-ALLDAYEVENT:FALSE
SUMMARY:Excel Tips for Real Estate Appraisers
DESCRIPTION:The technological advances of the last 10 years have caused a significant change in the real estate appraisal profession. Nearly all databases are computerized and import/export data through Excel. Therefore\, it is imperative that appraisers easily be able to retrieve\, list\, and analyze large quantities of data using Excel.
X-ALT-DESC;FMTTYPE=text/html:The technological advances of the last 10 years have caused a significant change in the real estate appraisal profession. Nearly all databases are computerized and import/export data through Excel. Therefore\, it is imperative that appraisers easily be able to retrieve\, list\, and analyze large quantities of data using Excel.
LOCATION:Live Zoom
UID:e.2066.4197
SEQUENCE:3
DTSTAMP:20260422T223704Z
URL:https://dev.chainolakeschamber.com/events/details/excel-tips-for-real-estate-appraisers-4197
END:VEVENT

END:VCALENDAR
