BEGIN:VCALENDAR
VERSION:2.0
PRODID:-//ChamberMaster//Event Calendar 2.0//EN
METHOD:PUBLISH
X-PUBLISHED-TTL:P3D
REFRESH-INTERVAL:P3D
CALSCALE:GREGORIAN
BEGIN:VEVENT
DTSTART:20230324T140000Z
DTEND:20230324T150000Z
X-MICROSOFT-CDO-ALLDAYEVENT:FALSE
SUMMARY:Excel PivotTables for Real Estate Appraisers
DESCRIPTION:The technological advances of the last 10 years have caused a significant change in the real estate appraisal profession. Nearly all databases are computerized and import/export data through Excel. Therefore\, it is imperative that appraisers easily be able to retrieve\, list\, and analyze large quantities of data using Excel. You will use the MLS to learn how to:   Sort and filter data   Highlight duplicate data   Calculate mean and median values   Statically analyze data using data regression   Conditional formatting and how to create a scatter chart   Accomplish tasks with more confidence and effectiveness
X-ALT-DESC;FMTTYPE=text/html:The technological advances of the last 10 years have caused a significant change in the real estate appraisal profession. Nearly all databases are computerized and import/export data through Excel. Therefore\, it is imperative that appraisers easily be able to retrieve\, list\, and analyze large quantities of data using Excel. You will use the MLS to learn how to: &bull\; Sort and filter data &bull\; Highlight duplicate data &bull\; Calculate mean and median values &bull\; Statically analyze data using data regression &bull\; Conditional formatting and how to create a scatter chart &bull\; Accomplish tasks with more confidence and effectiveness
LOCATION:Live Zoom
UID:e.2066.4927
SEQUENCE:3
DTSTAMP:20260419T203616Z
URL:https://dev.chainolakeschamber.com/events/details/excel-pivottables-for-real-estate-appraisers-4927
END:VEVENT

END:VCALENDAR
