BEGIN:VCALENDAR
VERSION:2.0
PRODID:-//ChamberMaster//Event Calendar 2.0//EN
METHOD:PUBLISH
X-PUBLISHED-TTL:P3D
REFRESH-INTERVAL:P3D
CALSCALE:GREGORIAN
BEGIN:VEVENT
DTSTART:20210614T130000Z
DTEND:20210614T170000Z
X-MICROSOFT-CDO-ALLDAYEVENT:FALSE
SUMMARY:Excel Pivot Tables
DESCRIPTION:The ability to analyze data is a powerful skill that helps make better decisions. Microsoft Excel is one of the top tools for data analysis and PivotTables are arguably the most popular analytic tool. The power of Excel PivotTables and their ability to summarize data in flexible ways\, enables quick exploration of data and produces valuable insights from the accumulated data. PivotTables are used in many different industries by millions of users who share the goal of reporting the performance of companies and organizations. PivotCharts and Slicers can be used together to visualize data and create easy to use dashboards.
X-ALT-DESC;FMTTYPE=text/html:The ability to analyze data is a powerful skill that helps make better decisions. Microsoft Excel is one of the top tools for data analysis and PivotTables are arguably the most popular analytic tool. The power of Excel PivotTables and their ability to summarize data in flexible ways\, enables quick exploration of data and produces valuable insights from the accumulated data. PivotTables are used in many different industries by millions of users who share the goal of reporting the performance of companies and organizations. PivotCharts and Slicers can be used together to visualize data and create easy to use dashboards.
LOCATION:Live Zoom
UID:e.2066.4035
SEQUENCE:3
DTSTAMP:20260423T125307Z
URL:https://dev.chainolakeschamber.com/events/details/excel-pivot-tables-4035
END:VEVENT

END:VCALENDAR
