BEGIN:VCALENDAR
VERSION:2.0
PRODID:-//ChamberMaster//Event Calendar 2.0//EN
METHOD:PUBLISH
X-PUBLISHED-TTL:P3D
REFRESH-INTERVAL:P3D
CALSCALE:GREGORIAN
BEGIN:VEVENT
DTSTART:20230210T143000Z
DTEND:20230210T154500Z
X-MICROSOFT-CDO-ALLDAYEVENT:FALSE
SUMMARY:Excel: Mastering Charts
DESCRIPTION:They say that a picture is worth a thousand words. Using Excel charting tools to visually display complex Excel data communicates the data's message much more effectively to your target audience. Chart and graphs are visual representations of your data. Viewing the data graphically makes the data less confusing and increases comprehension. It is easier to spot trends and patterns in your data sets. Topics include:   Creating charts in Excel   Defining the components of a chart   Formatting a chart   Modifying a chart   Adding chart elements   Adding\, editing and removing data   Annotating with Trendlines   Creating a combination chart and advanced Excel charts   Using sparkline chart\, Excel   How to make a graph in Excel
X-ALT-DESC;FMTTYPE=text/html:They say that a picture is worth a thousand words. Using Excel charting tools to visually display complex Excel data communicates the data&rsquo\;s message much more effectively to your target audience. Chart and graphs are visual representations of your data. Viewing the data graphically makes the data less confusing and increases comprehension. It is easier to spot trends and patterns in your data sets. Topics include: &bull\; Creating charts in Excel &bull\; Defining the components of a chart &bull\; Formatting a chart &bull\; Modifying a chart &bull\; Adding chart elements &bull\; Adding\, editing and removing data &bull\; Annotating with Trendlines &bull\; Creating a combination chart and advanced Excel charts &bull\; Using sparkline chart\, Excel &bull\; How to make a graph in Excel
LOCATION:Live Zoom
UID:e.2066.4942
SEQUENCE:3
DTSTAMP:20260419T223033Z
URL:https://dev.chainolakeschamber.com/events/details/excel-mastering-charts-02-10-2023-4942
END:VEVENT

END:VCALENDAR
