BEGIN:VCALENDAR
VERSION:2.0
PRODID:-//ChamberMaster//Event Calendar 2.0//EN
METHOD:PUBLISH
X-PUBLISHED-TTL:P3D
REFRESH-INTERVAL:P3D
CALSCALE:GREGORIAN
BEGIN:VEVENT
DTSTART:20220321T133000Z
DTEND:20220321T173000Z
X-MICROSOFT-CDO-ALLDAYEVENT:FALSE
SUMMARY:Excel Intermediate with Tables Tools\, Worksheets\, Protection and Charting
DESCRIPTION:Excel Intermediate with Tables\, Worksheets\, Protection and Charting continues where you left off with Excel Fundamentals with Formulas\, Formatting and Printing. This workshop will expand your Excel knowledge to create tables\, rules\, tables and much more.
X-ALT-DESC;FMTTYPE=text/html:Excel Intermediate with Tables\, Worksheets\, Protection and Charting continues where you left off with Excel Fundamentals with Formulas\, Formatting and Printing. This workshop will expand your Excel knowledge to create tables\, rules\, tables and much more.
LOCATION:Live Zoom
UID:e.2066.4203
SEQUENCE:3
DTSTAMP:20260422T223646Z
URL:https://dev.chainolakeschamber.com/events/details/excel-intermediate-with-tables-tools-worksheets-protection-and-charting-4203
END:VEVENT

END:VCALENDAR
