BEGIN:VCALENDAR
VERSION:2.0
PRODID:-//ChamberMaster//Event Calendar 2.0//EN
METHOD:PUBLISH
X-PUBLISHED-TTL:P3D
REFRESH-INTERVAL:P3D
CALSCALE:GREGORIAN
BEGIN:VEVENT
DTSTART:20210427T130000Z
DTEND:20210427T170000Z
X-MICROSOFT-CDO-ALLDAYEVENT:FALSE
SUMMARY:Excel Intermediate
DESCRIPTION:Excel intermediate will expand your Excel knowledge to new horizons. You are going to discover a whole range of skills and techniques that will become a standard component of your everyday use of Excel. In this course\, you will build a solid layer of more advanced skills so you can manage large datasets and create meaningful reports. This course will be taught using Excel 2016 but applicable to older versions which may not have some of the newer features.
X-ALT-DESC;FMTTYPE=text/html:Excel intermediate will expand your Excel knowledge to new horizons. You are going to discover a whole range of skills and techniques that will become a standard component of your everyday use of Excel. In this course\, you will build a solid layer of more advanced skills so you can manage large datasets and create meaningful reports. This course will be taught using Excel 2016 but applicable to older versions which may not have some of the newer features.
LOCATION:Live Zoom
UID:e.2066.3924
SEQUENCE:3
DTSTAMP:20260423T160003Z
URL:https://dev.chainolakeschamber.com/events/details/excel-intermediate-04-27-2021-3924
END:VEVENT

END:VCALENDAR
