BEGIN:VCALENDAR
VERSION:2.0
PRODID:-//ChamberMaster//Event Calendar 2.0//EN
METHOD:PUBLISH
X-PUBLISHED-TTL:P3D
REFRESH-INTERVAL:P3D
CALSCALE:GREGORIAN
BEGIN:VEVENT
DTSTART:20210304T140000Z
DTEND:20210304T180000Z
X-MICROSOFT-CDO-ALLDAYEVENT:FALSE
SUMMARY:Excel Formulas & Functions
DESCRIPTION:Whether you are an office worker\, or a small business owner using Excel to keep track of your finances\, Excel functions can be very important time savers. They also enhance your ability to create better performing spreadsheets. You will learn how to find the functions you need from each of the categories and gain familiarity with their use. You will also gain an understanding of 3D formulas\, statistical and financial functions\, logical and text functions and more.
X-ALT-DESC;FMTTYPE=text/html:Whether you are an office worker\, or a small business owner using Excel to keep track of your finances\, Excel functions can be very important time savers. They also enhance your ability to create better performing spreadsheets. You will learn how to find the functions you need from each of the categories and gain familiarity with their use. You will also gain an understanding of 3D formulas\, statistical and financial functions\, logical and text functions and more.
LOCATION:Zoom
UID:e.2066.3427
SEQUENCE:3
DTSTAMP:20260423T174501Z
URL:https://dev.chainolakeschamber.com/events/details/excel-formulas-functions-3427
END:VEVENT

END:VCALENDAR
