BEGIN:VCALENDAR
VERSION:2.0
PRODID:-//ChamberMaster//Event Calendar 2.0//EN
METHOD:PUBLISH
X-PUBLISHED-TTL:P3D
REFRESH-INTERVAL:P3D
CALSCALE:GREGORIAN
BEGIN:VEVENT
DTSTART:20230425T133000Z
DTEND:20230425T173000Z
X-MICROSOFT-CDO-ALLDAYEVENT:FALSE
SUMMARY:Excel Beginner
DESCRIPTION:This course will take you from the very beginning (opening a spreadsheet)\, through entering and working with data\, and finish with saving and sharing. It is everything you need to know to get started with Excel. Course will be taught using Microsoft Excel Desktop but applicable to older versions which may not have some of the newer features.
X-ALT-DESC;FMTTYPE=text/html:This course will take you from the very beginning (opening a spreadsheet)\, through entering and working with data\, and finish with saving and sharing. It is everything you need to know to get started with Excel. Course will be taught using Microsoft Excel Desktop but applicable to older versions which may not have some of the newer features.
LOCATION:Live Zoom
UID:e.2066.5035
SEQUENCE:3
DTSTAMP:20260419T185845Z
URL:https://dev.chainolakeschamber.com/events/details/excel-beginner-04-25-2023-5035
END:VEVENT

END:VCALENDAR
