BEGIN:VCALENDAR
VERSION:2.0
PRODID:-//ChamberMaster//Event Calendar 2.0//EN
METHOD:PUBLISH
X-PUBLISHED-TTL:P3D
REFRESH-INTERVAL:P3D
CALSCALE:GREGORIAN
BEGIN:VEVENT
DTSTART:20230317T133000Z
DTEND:20230317T173000Z
X-MICROSOFT-CDO-ALLDAYEVENT:FALSE
SUMMARY:Excel Advaced
DESCRIPTION:Learn the advanced functions of Microsoft Excel including Sorting and Filtering\, creating Subtotals\, and generating PivotTables to summarize and analyze your data. Course will be taught using Excel 2016 but applicable to older versions which may not have some of the newer features. Topics include:   Sorting and Filtering Data   Using Excel Tables to Organize Data   Using Subtotals   Summarizing Data with PivotTables
X-ALT-DESC;FMTTYPE=text/html:Learn the advanced functions of Microsoft Excel including Sorting and Filtering\, creating Subtotals\, and generating PivotTables to summarize and analyze your data. Course will be taught using Excel 2016 but applicable to older versions which may not have some of the newer features. Topics include: &bull\; Sorting and Filtering Data &bull\; Using Excel Tables to Organize Data &bull\; Using Subtotals &bull\; Summarizing Data with PivotTables
LOCATION:Live Zoom
UID:e.2066.4923
SEQUENCE:3
DTSTAMP:20260419T203101Z
URL:https://dev.chainolakeschamber.com/events/details/excel-advaced-4923
END:VEVENT

END:VCALENDAR
