BEGIN:VCALENDAR
VERSION:2.0
PRODID:-//ChamberMaster//Event Calendar 2.0//EN
METHOD:PUBLISH
X-PUBLISHED-TTL:P3D
REFRESH-INTERVAL:P3D
CALSCALE:GREGORIAN
BEGIN:VEVENT
DTSTART:20230317T230000Z
DTEND:20230318T033000Z
X-MICROSOFT-CDO-ALLDAYEVENT:FALSE
SUMMARY:Eureka Escape Games - Escape Game Night!
DESCRIPTION:Eureka Escape Games is hosting a Escape Game Night at Aeon Gallery and Lounge!\n\nPresenting: Bomb Disposal - A 60 minute challenge filled with mind guggling fun!\n\n2-6 players per game\n\nSign up yourself or your group at www.eurekaescapegames.com
X-ALT-DESC;FMTTYPE=text/html:Eureka Escape Games is hosting a Escape Game Night at Aeon Gallery and Lounge!<br />\nPresenting: Bomb Disposal - A 60 minute challenge filled with mind guggling fun!<br />\n2-6 players per game<br />\nSign up yourself or your group at www.eurekaescapegames.com<br />\n&nbsp\;
LOCATION:Aeon Gallery and Lounge 10331 N. Main Street Richmond\, IL
UID:e.2066.5000
SEQUENCE:3
DTSTAMP:20260419T203355Z
URL:https://dev.chainolakeschamber.com/events/details/eureka-escape-games-escape-game-night-5000
END:VEVENT

END:VCALENDAR
