BEGIN:VCALENDAR
VERSION:2.0
PRODID:-//ChamberMaster//Event Calendar 2.0//EN
METHOD:PUBLISH
X-PUBLISHED-TTL:P3D
REFRESH-INTERVAL:P3D
CALSCALE:GREGORIAN
BEGIN:VEVENT
DTSTART:20180413T173000Z
DTEND:20180413T183000Z
X-MICROSOFT-CDO-ALLDAYEVENT:FALSE
SUMMARY:Entrepreneurial Engagement at Bricks & Ivy Sports Tavern
DESCRIPTION:Join us at our monthly networking groups. Pick one\, or all and bring a colleague. Let's connect and share best practices and referrals!
X-ALT-DESC;FMTTYPE=text/html:Join us at our monthly networking groups. Pick one\, or all and bring a colleague. Let&#39\;s connect and share best practices and referrals!
LOCATION:Bricks & Ivy Sports Tavern 2508 US 12 Spring Grove\, IL 60081
UID:e.2066.23
SEQUENCE:3
DTSTAMP:20260426T013313Z
URL:https://dev.chainolakeschamber.com/events/details/entrepreneurial-engagement-at-bricks-ivy-sports-tavern-04-13-2018-23
END:VEVENT

END:VCALENDAR
