BEGIN:VCALENDAR
VERSION:2.0
PRODID:-//ChamberMaster//Event Calendar 2.0//EN
METHOD:PUBLISH
X-PUBLISHED-TTL:P3D
REFRESH-INTERVAL:P3D
CALSCALE:GREGORIAN
BEGIN:VEVENT
DTSTART:20211005T133000Z
DTEND:20211005T163000Z
X-MICROSOFT-CDO-ALLDAYEVENT:FALSE
SUMMARY:Entrepreneur Academy
DESCRIPTION:Do you have an aspiration of entrepreneurship? Join the Entrepreneur Academy\, powered by Kauffman FastTrac\, for an immersive experience that will support you on the journey from ideation to business launch. Entrepreneur Academy is an educational program focused on providing pre-venture or very early stage (one year or less) entrepreneurs with the expertise needed to start and run successful small businesses. Obtain tips and tools to guide yourself toward success! This immersive 30-hour academy is designed to provide information\, tips\, exercises and tools to help you think about your business idea.
X-ALT-DESC;FMTTYPE=text/html:Do you have an aspiration of entrepreneurship? Join the Entrepreneur Academy\, powered by Kauffman FastTrac\, for an immersive experience that will support you on the journey from ideation to business launch. Entrepreneur Academy is an educational program focused on providing pre-venture or very early stage (one year or less) entrepreneurs with the expertise needed to start and run successful small businesses. Obtain tips and tools to guide yourself toward success! This immersive 30-hour academy is designed to provide information\, tips\, exercises and tools to help you think about your business idea.
LOCATION:Live Zoom
UID:e.2066.4129
SEQUENCE:3
DTSTAMP:20260423T065337Z
URL:https://dev.chainolakeschamber.com/events/details/entrepreneur-academy-4129
END:VEVENT

END:VCALENDAR
