BEGIN:VCALENDAR
VERSION:2.0
PRODID:-//ChamberMaster//Event Calendar 2.0//EN
METHOD:PUBLISH
X-PUBLISHED-TTL:P3D
REFRESH-INTERVAL:P3D
CALSCALE:GREGORIAN
BEGIN:VEVENT
DTSTART:20210428T140000Z
DTEND:20210428T150000Z
X-MICROSOFT-CDO-ALLDAYEVENT:FALSE
SUMMARY:Ensure Product/Market Fit with Venture Validator
DESCRIPTION:When entrepreneurs understand their customer and they can get data to improve business decisions and achieve product market fit.
X-ALT-DESC;FMTTYPE=text/html:When entrepreneurs understand their customer and they can get data to improve business decisions and achieve product market fit.
LOCATION:Live Zoom
UID:e.2066.3944
SEQUENCE:3
DTSTAMP:20260423T160228Z
URL:https://dev.chainolakeschamber.com/events/details/ensure-product-market-fit-with-venture-validator-3944
END:VEVENT

END:VCALENDAR
