BEGIN:VCALENDAR
VERSION:2.0
PRODID:-//ChamberMaster//Event Calendar 2.0//EN
METHOD:PUBLISH
X-PUBLISHED-TTL:P3D
REFRESH-INTERVAL:P3D
CALSCALE:GREGORIAN
BEGIN:VEVENT
DTSTART:20210729T220000Z
DTEND:20210730T000000Z
X-MICROSOFT-CDO-ALLDAYEVENT:FALSE
SUMMARY:Emotional Intelligence
DESCRIPTION:Emotional Intelligence is a vital skill to possess inside and outside of the workplace. Learn how emotions influence motivation and behavior\, as well as the importance of understanding your feelings and the feelings of others.
X-ALT-DESC;FMTTYPE=text/html:Emotional Intelligence is a vital skill to possess inside and outside of the workplace. Learn how emotions influence motivation and behavior\, as well as the importance of understanding your feelings and the feelings of others.
LOCATION:Live Zoom
UID:e.2066.4082
SEQUENCE:3
DTSTAMP:20260423T111333Z
URL:https://dev.chainolakeschamber.com/events/details/emotional-intelligence-4082
END:VEVENT

END:VCALENDAR
