BEGIN:VCALENDAR
VERSION:2.0
PRODID:-//ChamberMaster//Event Calendar 2.0//EN
METHOD:PUBLISH
X-PUBLISHED-TTL:P3D
REFRESH-INTERVAL:P3D
CALSCALE:GREGORIAN
BEGIN:VEVENT
DTSTART:20210815T160000Z
DTEND:20210815T190000Z
X-MICROSOFT-CDO-ALLDAYEVENT:FALSE
SUMMARY:Duck Derby
DESCRIPTION:Adopt a duck\n\nWatch it RACE at Lakefront Park
X-ALT-DESC;FMTTYPE=text/html:Adopt a duck<br />\nWatch it RACE at Lakefront Park
LOCATION:Lakefront Park 71 Nippersink Blvd Fox Lake
UID:e.2066.4097
SEQUENCE:3
DTSTAMP:20260423T111603Z
URL:https://dev.chainolakeschamber.com/events/details/duck-derby-4097
END:VEVENT

END:VCALENDAR
