BEGIN:VCALENDAR
VERSION:2.0
PRODID:-//ChamberMaster//Event Calendar 2.0//EN
METHOD:PUBLISH
X-PUBLISHED-TTL:P3D
REFRESH-INTERVAL:P3D
CALSCALE:GREGORIAN
BEGIN:VEVENT
DTSTART:20210909T220000Z
DTEND:20210909T231500Z
X-MICROSOFT-CDO-ALLDAYEVENT:FALSE
SUMMARY:Driving Business Forward- Golf Committee Meeting
DESCRIPTION:Driving Business Forward  Golf Committee Meeting\n\n \n\nLet's forget 2020 and move forward.  2021 theme will be "Driving Business Forward" for  Chamber Golf Outing.  We are looking for volunteers to make our golf outing as successful as it was last year.\n\n \n\nParticipation by enthusiastic committee members has been the backbone of our success\, making our golf outing one of the most beneficial chamber events in Lake and McHenry counties.\n\n \n\nThis is an excellent opportunity for anyone to contribute and get involved to help support local businesses and our annual chamber golf outing.\n\n \n\nWe humbly ask our membership for your support by volunteering your time and talents.
X-ALT-DESC;FMTTYPE=text/html:<strong><span style="color:black\;"><span style="font-family:arial\,sans-serif\;"><span style="font-size:12.0pt\;">Driving Business Forward&nbsp\; Golf Committee Meeting</span></span></span></strong><br />\n&nbsp\;<br />\n<span style="color:black\;"><span style="font-family:arial\,sans-serif\;"><span style="font-size:12.0pt\;">Let&rsquo\;s forget 2020 and move forward.&nbsp\; 2021 theme will be &ldquo\;Driving Business Forward&rdquo\; for&nbsp\; Chamber Golf Outing.&nbsp\; We are looking for volunteers to make our golf outing as successful as it was last year.</span></span></span><br />\n&nbsp\;<br />\n<span style="color:black\;"><span style="font-family:arial\,sans-serif\;"><span style="font-size:12.0pt\;">Participation by enthusiastic committee members has been the backbone of our success\, making our golf outing one of the most beneficial chamber events in Lake and McHenry counties.</span></span></span><br />\n&nbsp\;<br />\n<span style="color:black\;"><span style="font-family:arial\,sans-serif\;"><span style="font-size:12.0pt\;">This is an excellent opportunity for anyone to contribute and get involved to help support local businesses and our annual chamber golf outing.</span></span></span><br />\n&nbsp\;<br />\n<span style="color:black\;"><span style="font-family:arial\,sans-serif\;"><span style="font-size:12.0pt\;">We humbly ask our membership for your support by volunteering your time and talents.</span></span></span><br />\n&nbsp\;
LOCATION:
UID:e.2066.4112
SEQUENCE:3
DTSTAMP:20260423T083435Z
URL:https://dev.chainolakeschamber.com/events/details/driving-business-forward-golf-committee-meeting-4112
END:VEVENT

END:VCALENDAR
