BEGIN:VCALENDAR
VERSION:2.0
PRODID:-//ChamberMaster//Event Calendar 2.0//EN
METHOD:PUBLISH
X-PUBLISHED-TTL:P3D
REFRESH-INTERVAL:P3D
CALSCALE:GREGORIAN
BEGIN:VEVENT
DTSTART:20210327T150000Z
DTEND:20210327T160000Z
X-MICROSOFT-CDO-ALLDAYEVENT:FALSE
SUMMARY:DRIVE THRU CAR PARADE TO SEE THE BUNNY!
DESCRIPTION:The Village Bunny will anxiously be awaiting in the white gazebo\, to wave to the children as they drive by. \n\nFamilies must remain in vehicles due to social distancing
X-ALT-DESC;FMTTYPE=text/html:<span style="left: 422.992px\; top: 261.918px\; font-size: 11.549px\; font-family: sans-serif\; transform: scaleX(0.733658)\;">The Village Bunny will anxiously be awaiting in the white gazebo\, to wave to the </span><span style="left: 529.272px\; top: 275.546px\; font-size: 11.549px\; font-family: sans-serif\; transform: scaleX(0.747574)\;">children as they drive by. </span><br />\n<span style="font-size:18px\;"><span style="left: 466.417px\; top: 302.686px\; font-family: sans-serif\; transform: scaleX(0.694961)\;">Families must remain in vehicles due to social distancing</span></span>
LOCATION:
UID:e.2066.3898
SEQUENCE:3
DTSTAMP:20260423T193538Z
URL:https://dev.chainolakeschamber.com/events/details/drive-thru-car-parade-to-see-the-bunny-3898
END:VEVENT

END:VCALENDAR
