BEGIN:VCALENDAR
VERSION:2.0
PRODID:-//ChamberMaster//Event Calendar 2.0//EN
METHOD:PUBLISH
X-PUBLISHED-TTL:P3D
REFRESH-INTERVAL:P3D
CALSCALE:GREGORIAN
BEGIN:VEVENT
DTSTART:20210327T160000Z
DTEND:20210327T180000Z
X-MICROSOFT-CDO-ALLDAYEVENT:FALSE
SUMMARY:Drive throught Bunny Wave
DESCRIPTION:Have your cameras ready to take photos from your vehicle and receive a goody bag for each child at the end! Mr. and Mrs. Bunny will be in attendance\, as well as their friends Lamb and Chicken!
X-ALT-DESC;FMTTYPE=text/html:Have your cameras ready to take photos from your vehicle and receive a goody bag for each child at the end! Mr. and Mrs. Bunny will be in attendance\, as well as their friends Lamb and Chicken!
LOCATION:Grant Township Center located at 26725 W Molidor Rd. Ingleside
UID:e.2066.3714
SEQUENCE:3
DTSTAMP:20260423T174200Z
URL:https://dev.chainolakeschamber.com/events/details/drive-throught-bunny-wave-3714
END:VEVENT

END:VCALENDAR
