BEGIN:VCALENDAR
VERSION:2.0
PRODID:-//ChamberMaster//Event Calendar 2.0//EN
METHOD:PUBLISH
X-PUBLISHED-TTL:P3D
REFRESH-INTERVAL:P3D
CALSCALE:GREGORIAN
BEGIN:VEVENT
DTSTART:20200514T150000Z
DTEND:20200514T163000Z
X-MICROSOFT-CDO-ALLDAYEVENT:FALSE
SUMMARY:Drafting a Strong\, Binding International Contract
DESCRIPTION:Gain a better understanding of international contracts so you can keep your money\, save time and mitigate risk. When doing business with a company based in another country\, it is essential to have written agreements which cover matters that are unique to international business. In this workshop\, we will examine and draft wording normally included in international business contracts with a focus on distribution contracts and proforma invoices. We will discuss real situations involving international business contracts where the exporters paid hefty fines\, and in some cases\, were imprisoned.
X-ALT-DESC;FMTTYPE=text/html:Gain a better understanding of international contracts so you can keep your money\, save time and mitigate risk. When doing business with a company based in another country\, it is essential to have written agreements which cover matters that are unique to international business. In this workshop\, we will examine and draft wording normally included in international business contracts with a focus on distribution contracts and proforma invoices. We will discuss real situations involving international business contracts where the exporters paid hefty fines\, and in some cases\, were imprisoned.
LOCATION:College of Lake County 19351 W Washington St Grayslake\, IL 60030
UID:e.2066.3175
SEQUENCE:3
DTSTAMP:20260424T094046Z
URL:https://dev.chainolakeschamber.com/events/details/drafting-a-strong-binding-international-contract-3175
END:VEVENT

END:VCALENDAR
