BEGIN:VCALENDAR
VERSION:2.0
PRODID:-//ChamberMaster//Event Calendar 2.0//EN
METHOD:PUBLISH
X-PUBLISHED-TTL:P3D
REFRESH-INTERVAL:P3D
CALSCALE:GREGORIAN
BEGIN:VEVENT
DTSTART:20190912T220000Z
DTEND:20190913T010000Z
X-MICROSOFT-CDO-ALLDAYEVENT:FALSE
SUMMARY:Donate While you DIne
DESCRIPTION:Come in to Culver's to help support  The Morin Medical Fund\n\n\n\nCulver's will be giving 20% of sales back to the Morin Family\, so don't forget to mention us at the register!!
X-ALT-DESC;FMTTYPE=text/html:Come in to Culver&rsquo\;s to help support&nbsp\; The Morin Medical Fund<br />\n<br />\n<span style="font-size:18px\;">Culver&rsquo\;s will be giving 20% of sales back to the Morin Family\, so don&rsquo\;t forget to mention us at the register!!</span>
LOCATION:Culver's of Fox Lake 100 S RT 12 Fox Lake\, Illinois 60020
UID:e.2066.3127
SEQUENCE:3
DTSTAMP:20260424T233247Z
URL:https://dev.chainolakeschamber.com/events/details/donate-while-you-dine-3127
END:VEVENT

END:VCALENDAR
