BEGIN:VCALENDAR
VERSION:2.0
PRODID:-//ChamberMaster//Event Calendar 2.0//EN
METHOD:PUBLISH
X-PUBLISHED-TTL:P3D
REFRESH-INTERVAL:P3D
CALSCALE:GREGORIAN
BEGIN:VEVENT
DTSTART:20210610T140000Z
DTEND:20210610T153000Z
X-MICROSOFT-CDO-ALLDAYEVENT:FALSE
SUMMARY:Don't Be Taken by Surprise
DESCRIPTION:The future is NEVER a straight-line extension of the present. You and your team need to think and act in the future tense. This webinar highlights a six-part process and provides some "considerations" that can help you avoid surprises. Because of Covid-19\, business reality for many organizations in 2020 was\, unfortunately\, one of surprise and confusion. Governments\, companies\, and individuals did not anticipate the future. However\, Covid-19 is not the first time we have been "taken by surprise." That said\, we should not simply accept this as inevitable. Pragmatic leaders can do better.
X-ALT-DESC;FMTTYPE=text/html:The future is NEVER a straight-line extension of the present. You and your team need to think and act in the future tense. This webinar highlights a six-part process and provides some &ldquo\;considerations&rdquo\; that can help you avoid surprises. Because of Covid-19\, business reality for many organizations in 2020 was\, unfortunately\, one of surprise and confusion. Governments\, companies\, and individuals did not anticipate the future. However\, Covid-19 is not the first time we have been &ldquo\;taken by surprise.&rdquo\; That said\, we should not simply accept this as inevitable. Pragmatic leaders can do better.
LOCATION:Live Zoom
UID:e.2066.4034
SEQUENCE:3
DTSTAMP:20260423T130043Z
URL:https://dev.chainolakeschamber.com/events/details/don-t-be-taken-by-surprise-4034
END:VEVENT

END:VCALENDAR
