BEGIN:VCALENDAR
VERSION:2.0
PRODID:-//ChamberMaster//Event Calendar 2.0//EN
METHOD:PUBLISH
X-PUBLISHED-TTL:P3D
REFRESH-INTERVAL:P3D
CALSCALE:GREGORIAN
BEGIN:VEVENT
DTSTART:20230323T150000Z
DTEND:20230323T160000Z
X-MICROSOFT-CDO-ALLDAYEVENT:FALSE
SUMMARY:Doing Business in Southeast Asia
DESCRIPTION:Discovering Thailand\, Indonesia\, Malaysia\, Vietnam and the Philippines Southeast Asia will be the fastest-growing market for the next two decades as a huge region in size and population. Being aware of the culture and cultural differences is an essential element of success in global markets. This webinar will focus on Southeastern Asian countries such as Thailand\, Indonesia\, Malaysia\, Vietnam\, and the Philippines. You will learn what cultural issues should be kept in mind and the significant differences between these countries. We'll also discuss etiquette and communication patterns in the business.
X-ALT-DESC;FMTTYPE=text/html:Discovering Thailand\, Indonesia\, Malaysia\, Vietnam and the Philippines Southeast Asia will be the fastest-growing market for the next two decades as a huge region in size and population. Being aware of the culture and cultural differences is an essential element of success in global markets. This webinar will focus on Southeastern Asian countries such as Thailand\, Indonesia\, Malaysia\, Vietnam\, and the Philippines. You will learn what cultural issues should be kept in mind and the significant differences between these countries. We&rsquo\;ll also discuss etiquette and communication patterns in the business.
LOCATION:Live Zoom
UID:e.2066.4926
SEQUENCE:3
DTSTAMP:20260419T223021Z
URL:https://dev.chainolakeschamber.com/events/details/doing-business-in-southeast-asia-4926
END:VEVENT

END:VCALENDAR
