BEGIN:VCALENDAR
VERSION:2.0
PRODID:-//ChamberMaster//Event Calendar 2.0//EN
METHOD:PUBLISH
X-PUBLISHED-TTL:P3D
REFRESH-INTERVAL:P3D
CALSCALE:GREGORIAN
BEGIN:VEVENT
DTSTART:20221001T140000Z
DTEND:20221001T170000Z
X-MICROSOFT-CDO-ALLDAYEVENT:FALSE
SUMMARY:Document Destruction & Textile Recycling Day
DESCRIPTION:Bring your sensitive and private documents for secure document destruction by Flood Brothers Disposal Co. \n\n\n\nIn conjunction with our Document Destruction Day at the Village Hall\, Helping Hands Recycling will be on site to collect items such as clothing\, small home goods\, kitchen items\, and toys. See picture for approved items.
X-ALT-DESC;FMTTYPE=text/html:<span style="border: 0px\; font-variant-numeric: inherit\; font-variant-east-asian: inherit\; font-stretch: inherit\; font-size: 12px\; line-height: inherit\; font-family: Arial\, Verdana\, Helvetica\, sans-serif\; margin: 0px\; padding: 0px\; vertical-align: baseline\; color: rgb(112\, 112\, 112)\;">Bring your sensitive and private documents for secure document destruction by Flood Brothers Disposal Co.&nbsp\;</span><br />\n<br />\n<span style="border: 0px\; font-variant-numeric: inherit\; font-variant-east-asian: inherit\; font-stretch: inherit\; font-size: 12px\; line-height: inherit\; font-family: Arial\, Verdana\, Helvetica\, sans-serif\; margin: 0px\; padding: 0px\; vertical-align: baseline\; color: rgb(112\, 112\, 112) !important\;">In conju</span><span style="border: 0px\; font-variant-numeric: inherit\; font-variant-east-asian: inherit\; font-stretch: inherit\; font-size: 12px\; line-height: inherit\; font-family: Arial\, Verdana\, Helvetica\, sans-serif\; margin: 0px\; padding: 0px\; vertical-align: baseline\; color: rgb(112\, 112\, 112) !important\;">nction with our Document Destruction Day at the Village Hall\, Helping Hands Recycling will be on site to collect items such as clothing\, small home goods\, kitchen items\, and toys. See picture for approved items.</span>
LOCATION:The event will be in the Spring Grove Municipal Centre Parking Lot located at 7401 Meyer Road.
UID:e.2066.4624
SEQUENCE:3
DTSTAMP:20260422T111445Z
URL:https://dev.chainolakeschamber.com/events/details/document-destruction-textile-recycling-day-4624
END:VEVENT

END:VCALENDAR
