BEGIN:VCALENDAR
VERSION:2.0
PRODID:-//ChamberMaster//Event Calendar 2.0//EN
METHOD:PUBLISH
X-PUBLISHED-TTL:P3D
REFRESH-INTERVAL:P3D
CALSCALE:GREGORIAN
BEGIN:VEVENT
DTSTART:20210720T220000Z
DTEND:20210721T000000Z
X-MICROSOFT-CDO-ALLDAYEVENT:FALSE
SUMMARY:Diversity and Inclusion
DESCRIPTION:This workshop will help you recognize how to better address diversity and recognize its benefits. Learn how to develop and implement a policy that does not allow for discrimination and ensures every employee understands the concepts of diversity.
X-ALT-DESC;FMTTYPE=text/html:This workshop will help you recognize how to better address diversity and recognize its benefits. Learn how to develop and implement a policy that does not allow for discrimination and ensures every employee understands the concepts of diversity.
LOCATION:Live Zoom
UID:e.2066.4075
SEQUENCE:3
DTSTAMP:20260423T111740Z
URL:https://dev.chainolakeschamber.com/events/details/diversity-and-inclusion-4075
END:VEVENT

END:VCALENDAR
