BEGIN:VCALENDAR
VERSION:2.0
PRODID:-//ChamberMaster//Event Calendar 2.0//EN
METHOD:PUBLISH
X-PUBLISHED-TTL:P3D
REFRESH-INTERVAL:P3D
CALSCALE:GREGORIAN
BEGIN:VEVENT
DTSTART:20210619T150000Z
DTEND:20210619T190000Z
X-MICROSOFT-CDO-ALLDAYEVENT:FALSE
SUMMARY:Digging with Dad
DESCRIPTION:Join us for our first Digging with Dad. Dads bring your littles and let them plant a succulent plant for you!
X-ALT-DESC;FMTTYPE=text/html:<span style="color:#000000"><span style="font-size:15px">Join us for our first Digging with Dad. Dads bring your littles and let them plant a succulent plant for you!</span></span>
LOCATION:jh Events and Flowers 3603 Municipal Dr. McHenry\, IL 60050
UID:e.2066.3885
SEQUENCE:3
DTSTAMP:20260423T125057Z
URL:https://dev.chainolakeschamber.com/events/details/digging-with-dad-3885
END:VEVENT

END:VCALENDAR
