BEGIN:VCALENDAR
VERSION:2.0
PRODID:-//ChamberMaster//Event Calendar 2.0//EN
METHOD:PUBLISH
X-PUBLISHED-TTL:P3D
REFRESH-INTERVAL:P3D
CALSCALE:GREGORIAN
BEGIN:VEVENT
DTSTART:20201217T200000Z
DTEND:20201217T213000Z
X-MICROSOFT-CDO-ALLDAYEVENT:FALSE
SUMMARY:Dementia Mastery Series- The Cottages of Fox Lake
DESCRIPTION:Dementia Mastery Series for those caring for loved ones with forms of dementia\n\nA monthly series on the 3rd Thursday each month from 2 pm to 3:30 pm\n\nThey will be able to bring their loved one for personal engagement as they then will be able to focus on the program\n\n\n\nSeating is limited\, please RSVP Deana at 847-437-4663 or marketing@cottagesfoxlake.com
X-ALT-DESC;FMTTYPE=text/html:<span style="color:black\;"><span style="font-size:12.0pt\;">Dementia Mastery Series for those caring for loved ones with forms of dementia</span></span><br />\n<span style="color:black\;"><span style="font-size:12.0pt\;">A monthly series on the 3rd Thursday each month from 2 pm to 3:30 pm</span></span><br />\n<span style="color:black\;"><span style="font-size:12.0pt\;">They will be able to bring their loved one for personal engagement as they then will be able to focus on the program</span></span><br />\n<br />\n<span style="color:black\;"><span style="font-size:12.0pt\;">Seating is limited\, please RSVP Deana at 847-437-4663 or <a href="mailto:marketing@cottagesfoxlake.com">marketing@cottagesfoxlake.com</a></span></span><br />\n&nbsp\;
LOCATION:The Cottages of Fox Lake 16 Lilac Avenue | Fox Lake\, IL 60020 p 847 437 HOME (4663)
UID:e.2066.3260
SEQUENCE:3
DTSTAMP:20260423T224326Z
URL:https://dev.chainolakeschamber.com/events/details/dementia-mastery-series-the-cottages-of-fox-lake-12-17-2020-3260
END:VEVENT

END:VCALENDAR
