BEGIN:VCALENDAR
VERSION:2.0
PRODID:-//ChamberMaster//Event Calendar 2.0//EN
METHOD:PUBLISH
X-PUBLISHED-TTL:P3D
REFRESH-INTERVAL:P3D
CALSCALE:GREGORIAN
BEGIN:VEVENT
DTSTART:20230511T230000Z
DTEND:20230512T000000Z
X-MICROSOFT-CDO-ALLDAYEVENT:FALSE
SUMMARY:Deducciones fiscales y préstamos para pequeñas empresas
DESCRIPTION:La administraci n financiera de calidad ofrece muchos beneficios para usted como propietario de un negocio. La administraci n financiera incluye contabilidad\, proyecciones\, estados financieros y financiamiento\, que forman la base para alcanzar sus objetivos a trav s de decisiones comerciales s lidas. Este programa proporciona orientaci n sobre el uso de una administraci n financiera s lida para tomar decisiones comerciales s lidas y mejorar su capacidad para obtener m s deducciones de impuestos y fondos comerciales.
X-ALT-DESC;FMTTYPE=text/html:La administraci&oacute\;n financiera de calidad ofrece muchos beneficios para usted como propietario de un negocio. La administraci&oacute\;n financiera incluye contabilidad\, proyecciones\, estados financieros y financiamiento\, que forman la base para alcanzar sus objetivos a trav&eacute\;s de decisiones comerciales s&oacute\;lidas. Este programa proporciona orientaci&oacute\;n sobre el uso de una administraci&oacute\;n financiera s&oacute\;lida para tomar decisiones comerciales s&oacute\;lidas y mejorar su capacidad para obtener m&aacute\;s deducciones de impuestos y fondos comerciales.
LOCATION:Biblioteca P blica de Waukegan Ubicaci n: 128 North County Street. Waukegan\, IL 60085
UID:e.2066.5024
SEQUENCE:3
DTSTAMP:20260419T190354Z
URL:https://dev.chainolakeschamber.com/events/details/deducciones-fiscales-y-pr&#233;stamos-para-peque&#241;as-empresas-5024
END:VEVENT

END:VCALENDAR
