BEGIN:VCALENDAR
VERSION:2.0
PRODID:-//ChamberMaster//Event Calendar 2.0//EN
METHOD:PUBLISH
X-PUBLISHED-TTL:P3D
REFRESH-INTERVAL:P3D
CALSCALE:GREGORIAN
BEGIN:VEVENT
DTSTART:20210426T180000Z
DTEND:20210426T193000Z
X-MICROSOFT-CDO-ALLDAYEVENT:FALSE
SUMMARY:Decision Driven: Closing the Gap Between Analysis and Action
DESCRIPTION:In today's world\, the expectation is to be "data-driven." But where do you start? Learn how to make better and faster decisions when it really matters\, in life or business. In this 5-day program\, you will improve your efficiency and effectiveness in making data-driven decisions. This workshop is not a number-crunching course. This workshop takes the next step\, addressing the common pitfalls that prevent leaders from using data to drive decisions and results.
X-ALT-DESC;FMTTYPE=text/html:In today&rsquo\;s world\, the expectation is to be &ldquo\;data-driven.&rdquo\; But where do you start? Learn how to make better and faster decisions when it really matters\, in life or business. In this 5-day program\, you will improve your efficiency and effectiveness in making data-driven decisions. This workshop is not a number-crunching course. This workshop takes the next step\, addressing the common pitfalls that prevent leaders from using data to drive decisions and results.
LOCATION:Live Zoom
UID:e.2066.3938
SEQUENCE:3
DTSTAMP:20260423T160056Z
URL:https://dev.chainolakeschamber.com/events/details/decision-driven-closing-the-gap-between-analysis-and-action-3938
END:VEVENT

END:VCALENDAR
