BEGIN:VCALENDAR
VERSION:2.0
PRODID:-//ChamberMaster//Event Calendar 2.0//EN
METHOD:PUBLISH
X-PUBLISHED-TTL:P3D
REFRESH-INTERVAL:P3D
CALSCALE:GREGORIAN
BEGIN:VEVENT
DTSTART:20190817T170000Z
DTEND:20190817T230000Z
X-MICROSOFT-CDO-ALLDAYEVENT:FALSE
SUMMARY:Daubs Garage Open House
DESCRIPTION:Daubs Garage wants to say thanks to everyone for helping keep us busy these past two years.\n\n\n\nPlease join us for some food\, music\, and games!
X-ALT-DESC;FMTTYPE=text/html:Daubs Garage wants <span>to say <span style="font-size:14px\;">thanks</span> to everyone for helping keep us busy these past two years.<br />\n<br />\nPlease join us for some food\, music\, and games!</span><br />\n&nbsp\;
LOCATION:Daubs Garage 11475 Commercial Street\, #17\, Richmond\, Illinois 60071
UID:e.2066.2988
SEQUENCE:3
DTSTAMP:20260425T010259Z
URL:https://dev.chainolakeschamber.com/events/details/daubs-garage-open-house-2988
END:VEVENT

END:VCALENDAR
