BEGIN:VCALENDAR
VERSION:2.0
PRODID:-//ChamberMaster//Event Calendar 2.0//EN
METHOD:PUBLISH
X-PUBLISHED-TTL:P3D
REFRESH-INTERVAL:P3D
CALSCALE:GREGORIAN
BEGIN:VEVENT
DTSTART:20220512T230000Z
DTEND:20220513T003000Z
X-MICROSOFT-CDO-ALLDAYEVENT:FALSE
SUMMARY:Cómo reparar o mejorar su puntaje de crédito comercial
DESCRIPTION:Este programa resume la importancia de tener un buen historial de cr dito personal y comercial para los propietarios de peque as empresas. Los prestamistas utilizan diferentes enfoques para evaluar la solvencia\, incluidos los historiales de cr dito personales y comerciales. Saber c mo influir positivamente en su solvencia crediticia hace que sea m s f cil asegurar la financiaci n empresarial.
X-ALT-DESC;FMTTYPE=text/html:Este programa resume la importancia de tener un buen historial de cr&eacute\;dito personal y comercial para los propietarios de peque&ntilde\;as empresas. Los prestamistas utilizan diferentes enfoques para evaluar la solvencia\, incluidos los historiales de cr&eacute\;dito personales y comerciales. Saber c&oacute\;mo influir positivamente en su solvencia crediticia hace que sea m&aacute\;s f&aacute\;cil asegurar la financiaci&oacute\;n empresarial.
LOCATION:en el Club Apaseo El Alto 1220 Grand Ave Waukegan\, IL 60085
UID:e.2066.4498
SEQUENCE:3
DTSTAMP:20260422T204947Z
URL:https://dev.chainolakeschamber.com/events/details/c&#243;mo-reparar-o-mejorar-su-puntaje-de-cr&#233;dito-comercial-4498
END:VEVENT

END:VCALENDAR
