BEGIN:VCALENDAR
VERSION:2.0
PRODID:-//ChamberMaster//Event Calendar 2.0//EN
METHOD:PUBLISH
X-PUBLISHED-TTL:P3D
REFRESH-INTERVAL:P3D
CALSCALE:GREGORIAN
BEGIN:VEVENT
DTSTART:20191022T230000Z
DTEND:20191023T003000Z
X-MICROSOFT-CDO-ALLDAYEVENT:FALSE
SUMMARY:Cyber Security Fundamentals for Home and Business
DESCRIPTION:From computer viruses to phishing attacks to ransomware\, cyber security threats are everywhere and are quickly becoming a more prevalent part of our everyday lives. This workshop will provide you with techniques for protecting you\, your networks\, devices and home. Topics include reasons why we are targets\, common threats that exist "out in the wild" and protective measures.
X-ALT-DESC;FMTTYPE=text/html:From computer viruses to phishing attacks to ransomware\, cyber security threats are everywhere and are quickly becoming a more prevalent part of our everyday lives. This workshop will provide you with techniques for protecting you\, your networks\, devices and home. Topics include reasons why we are targets\, common threats that exist &ldquo\;out in the wild&rdquo\; and protective measures.
LOCATION:College of Lake County Grayslake Campus 19351 W Washington Street Grayslake\, IL 60030
UID:e.2066.2968
SEQUENCE:3
DTSTAMP:20260424T220546Z
URL:https://dev.chainolakeschamber.com/events/details/cyber-security-fundamentals-for-home-and-business-2968
END:VEVENT

END:VCALENDAR
