BEGIN:VCALENDAR
VERSION:2.0
PRODID:-//ChamberMaster//Event Calendar 2.0//EN
METHOD:PUBLISH
X-PUBLISHED-TTL:P3D
REFRESH-INTERVAL:P3D
CALSCALE:GREGORIAN
BEGIN:VEVENT
DTSTART:20210216T150500Z
DTEND:20210216T170000Z
X-MICROSOFT-CDO-ALLDAYEVENT:FALSE
SUMMARY:Cyber Security for Small Business
DESCRIPTION:Every organization is responsible for ensuring cyber security. The ability to protect its information systems from impairment or even theft is essential to success. Implementing effective security measures will not only offer liability protection\; it will also increase efficiency and productivity. With our Cyber Security workshop\, you will understand the different types of malware and security breaches. Develop effective prevention methods which will increase overall security. You will also understand the basic concepts associated with Cyber Security and what a company needs to stay secure.
X-ALT-DESC;FMTTYPE=text/html:Every organization is responsible for ensuring cyber security. The ability to protect its information systems from impairment or even theft is essential to success. Implementing effective security measures will not only offer liability protection\; it will also increase efficiency and productivity. With our Cyber Security workshop\, you will understand the different types of malware and security breaches. Develop effective prevention methods which will increase overall security. You will also understand the basic concepts associated with Cyber Security and what a company needs to stay secure.
LOCATION:Live Zoom
UID:e.2066.3697
SEQUENCE:3
DTSTAMP:20260423T193256Z
URL:https://dev.chainolakeschamber.com/events/details/cyber-security-for-small-business-3697
END:VEVENT

END:VCALENDAR
