BEGIN:VCALENDAR
VERSION:2.0
PRODID:-//ChamberMaster//Event Calendar 2.0//EN
METHOD:PUBLISH
X-PUBLISHED-TTL:P3D
REFRESH-INTERVAL:P3D
CALSCALE:GREGORIAN
BEGIN:VEVENT
DTSTART:20230805T200000Z
DTEND:20230806T000000Z
X-MICROSOFT-CDO-ALLDAYEVENT:FALSE
SUMMARY:Craft Beer Festival
DESCRIPTION:Spring Grove Community Engagement Committee Presents \n\nCRAFT BEER FESTIVAL!    Over 21 Event\n\nLive Entertainment by Amy Rose\n\nFood Trucks - 15 Lakes Mobile Bistro and Saylor Mick's Pizza & Pub\n\nCraft Beer Vendors -\n\nPratt Brewing\, Black Lung\, Scorched Earth\, Tighthead\, Kiswaukee\, Holzlager\, Boston\, Crystal Lake and 9th Hour!
X-ALT-DESC;FMTTYPE=text/html:Spring Grove Community Engagement Committee Presents&nbsp\;<br />\nCRAFT BEER FESTIVAL!&nbsp\; &nbsp\; Over 21 Event<br />\nLive Entertainment by Amy Rose<br />\nFood Trucks - 15 Lakes Mobile Bistro and Saylor Mick&#39\;s Pizza &amp\; Pub<br />\nCraft Beer Vendors -<br />\nPratt Brewing\, Black Lung\, Scorched Earth\, Tighthead\, Kiswaukee\, Holzlager\, Boston\, Crystal Lake and 9th Hour!
LOCATION:Hatchery Park 2314 Hatchery Road Spring Grove\, IL 60081
UID:e.2066.5309
SEQUENCE:3
DTSTAMP:20260419T121215Z
URL:https://dev.chainolakeschamber.com/events/details/craft-beer-festival-5309
END:VEVENT

END:VCALENDAR
