BEGIN:VCALENDAR
VERSION:2.0
PRODID:-//ChamberMaster//Event Calendar 2.0//EN
METHOD:PUBLISH
X-PUBLISHED-TTL:P3D
REFRESH-INTERVAL:P3D
CALSCALE:GREGORIAN
BEGIN:VEVENT
DTSTART:20220721T233000Z
DTEND:20220722T010000Z
X-MICROSOFT-CDO-ALLDAYEVENT:FALSE
SUMMARY:Conversations Untapped with Craig Wilcox
DESCRIPTION:Join State Senator Craig Wilcox for a casual conversation about the issues that matter to you. Senator Wilcox is hosting a "Conversations Untapped" on July 21st from 6:30 pm - 8:00 pm at the Richmond BratHaus. At the event\, you will have a chance to speak to your elected official one-on-one and get an update on state and local issues.
X-ALT-DESC;FMTTYPE=text/html:Join State Senator Craig Wilcox for a casual conversation about the issues that matter to you. Senator Wilcox is hosting a &quot\;Conversations Untapped&quot\; on July 21st from 6:30 pm - 8:00 pm at the Richmond BratHaus. At the event\, you will have a chance to speak to your elected official one-on-one and get an update on state and local issues.
LOCATION:Richmond BratHaus 10310 N. Main Street Richmond\, IL 60071
UID:e.2066.4537
SEQUENCE:3
DTSTAMP:20260422T154537Z
URL:https://dev.chainolakeschamber.com/events/details/conversations-untapped-with-craig-wilcox-4537
END:VEVENT

END:VCALENDAR
