BEGIN:VCALENDAR
VERSION:2.0
PRODID:-//ChamberMaster//Event Calendar 2.0//EN
METHOD:PUBLISH
X-PUBLISHED-TTL:P3D
REFRESH-INTERVAL:P3D
CALSCALE:GREGORIAN
BEGIN:VEVENT
DTSTART:20200311T000000Z
DTEND:20200311T020000Z
X-MICROSOFT-CDO-ALLDAYEVENT:FALSE
SUMMARY:Conservation of the Blanding's Turtle
DESCRIPTION:Gary Glowacki\, Wildlife Ecologist\, Lake County Forest Preserve District will tell us about his work conserving the Blanding's Turtle. The Blanding's Turtle is a long-lived semi-aquatic turtle in decline throughout its range primarily due to habitat loss\, increased levels of predation\, poaching and low levels of both juvenile and adult survivorship. In response to declines\, the Lake County Forest Preserve District initiated a recovery program in 2010.  Learn how the District is using innovative conservation strategies such as head-starting\, predator control\, and habitat restoration to bolster local populations of this globally imperiled species.
X-ALT-DESC;FMTTYPE=text/html:<span style="color:black\;"><span style="font-family:verdana\,sans-serif\;"><span style="font-size:11.0pt\;">Gary Glowacki\, Wildlife Ecologist\, Lake County Forest Preserve District will tell us about his work conserving the Blanding&rsquo\;s Turtle. The Blanding&rsquo\;s Turtle is a long-lived semi-aquatic turtle in decline throughout its range primarily due to habitat loss\, increased levels of predation\, poaching and low levels of both juvenile and adult survivorship. In response to declines\, the Lake County Forest Preserve District initiated a recovery program in 2010.&nbsp\; Learn how the District is using innovative conservation strategies such as head-starting\, predator control\, and habitat restoration to bolster local populations of this globally imperiled species.</span></span></span>
LOCATION:Lost Valley Visitor Center in Glacial Park Rt 31 and Harts Rd\, Ringwood
UID:e.2066.3386
SEQUENCE:3
DTSTAMP:20260424T155041Z
URL:https://dev.chainolakeschamber.com/events/details/conservation-of-the-blanding-s-turtle-3386
END:VEVENT

END:VCALENDAR
