BEGIN:VCALENDAR
VERSION:2.0
PRODID:-//ChamberMaster//Event Calendar 2.0//EN
METHOD:PUBLISH
X-PUBLISHED-TTL:P3D
REFRESH-INTERVAL:P3D
CALSCALE:GREGORIAN
BEGIN:VEVENT
DTSTART:20210728T220000Z
DTEND:20210729T000000Z
X-MICROSOFT-CDO-ALLDAYEVENT:FALSE
SUMMARY:Conflict Resolution
DESCRIPTION:Dealing with conflict is important for every individual and organization. This workshop will give you a seven-step conflict resolution process that you can use and modify to resolve conflict disputes of any size.
X-ALT-DESC;FMTTYPE=text/html:Dealing with conflict is important for every individual and organization. This workshop will give you a seven-step conflict resolution process that you can use and modify to resolve conflict disputes of any size.
LOCATION:Live Zoom
UID:e.2066.4081
SEQUENCE:3
DTSTAMP:20260423T111536Z
URL:https://dev.chainolakeschamber.com/events/details/conflict-resolution-4081
END:VEVENT

END:VCALENDAR
