BEGIN:VCALENDAR
VERSION:2.0
PRODID:-//ChamberMaster//Event Calendar 2.0//EN
METHOD:PUBLISH
X-PUBLISHED-TTL:P3D
REFRESH-INTERVAL:P3D
CALSCALE:GREGORIAN
BEGIN:VEVENT
DTSTART:20230517T233000Z
DTEND:20230518T010000Z
X-MICROSOFT-CDO-ALLDAYEVENT:FALSE
SUMMARY:Community Purse Non-Profit Meeting
DESCRIPTION:Join us at the next Community Purse meeting!\n\nMain Stay Farm will receive the grant they won at the last meeting.\n\nThree new non-profits will present:
X-ALT-DESC;FMTTYPE=text/html:Join us at the next Community Purse meeting!<br />\nMain Stay Farm will receive the grant they won at the last meeting.<br />\nThree new non-profits will present:<br />\n&nbsp\;
LOCATION:BuddyZ Greent Street McHenry\, IL
UID:e.2066.5013
SEQUENCE:3
DTSTAMP:20260419T172342Z
URL:https://dev.chainolakeschamber.com/events/details/community-purse-non-profit-meeting-5013
END:VEVENT

END:VCALENDAR
