BEGIN:VCALENDAR
VERSION:2.0
PRODID:-//ChamberMaster//Event Calendar 2.0//EN
METHOD:PUBLISH
X-PUBLISHED-TTL:P3D
REFRESH-INTERVAL:P3D
CALSCALE:GREGORIAN
BEGIN:VEVENT
DTSTART:20230216T003000Z
DTEND:20230216T020000Z
X-MICROSOFT-CDO-ALLDAYEVENT:FALSE
SUMMARY:Community Purse Meeting
DESCRIPTION:See you Weds\, Feb 15 at the Midwest Breakfast Company !\n\nWe will hear from three outstanding non-profits:\n\nIllinois Fire Alliance\n\nMain Stay Farms\n\nYour Children's Bookshelf
X-ALT-DESC;FMTTYPE=text/html:See you Weds\, Feb 15 at the Midwest Breakfast Company !<br />\nWe will hear from three outstanding non-profits:<br />\nIllinois Fire Alliance<br />\nMain Stay Farms<br />\nYour Children&#39\;s Bookshelf
LOCATION:Midwest Breakfast Company 2207 Rt. 12 Spring Grove IL
UID:e.2066.4976
SEQUENCE:3
DTSTAMP:20260419T222956Z
URL:https://dev.chainolakeschamber.com/events/details/community-purse-meeting-4976
END:VEVENT

END:VCALENDAR
