BEGIN:VCALENDAR
VERSION:2.0
PRODID:-//ChamberMaster//Event Calendar 2.0//EN
METHOD:PUBLISH
X-PUBLISHED-TTL:P3D
REFRESH-INTERVAL:P3D
CALSCALE:GREGORIAN
BEGIN:VEVENT
DTSTART:20220217T003000Z
DTEND:20220217T020000Z
X-MICROSOFT-CDO-ALLDAYEVENT:FALSE
SUMMARY:Community Purse\, McHenry Chapter
DESCRIPTION:Our presenters will be: Bernie's Book Bank\, Teen Mother Choices International and Journey Care Foundation.
X-ALT-DESC;FMTTYPE=text/html:<span style="color: rgb(34\, 34\, 34)\; font-family: &quot\;Trebuchet MS&quot\;\, &quot\;Lucida Grande&quot\;\, &quot\;Lucida Sans Unicode&quot\;\, &quot\;Lucida Sans&quot\;\, Tahoma\, sans-serif\; font-size: 16px\; text-align: center\; background-color: rgb(247\, 247\, 247)\;">Our presenters will be:&nbsp\;</span><strong style="color: rgb(34\, 34\, 34)\; font-family: &quot\;Trebuchet MS&quot\;\, &quot\;Lucida Grande&quot\;\, &quot\;Lucida Sans Unicode&quot\;\, &quot\;Lucida Sans&quot\;\, Tahoma\, sans-serif\; font-size: 16px\; text-align: center\; background-color: rgb(247\, 247\, 247)\;">Bernie&#39\;s Book Bank\, Teen Mother Choices International</strong><span style="color: rgb(34\, 34\, 34)\; font-family: &quot\;Trebuchet MS&quot\;\, &quot\;Lucida Grande&quot\;\, &quot\;Lucida Sans Unicode&quot\;\, &quot\;Lucida Sans&quot\;\, Tahoma\, sans-serif\; font-size: 16px\; text-align: center\; background-color: rgb(247\, 247\, 247)\;">&nbsp\;and&nbsp\;</span><strong style="color: rgb(34\, 34\, 34)\; font-family: &quot\;Trebuchet MS&quot\;\, &quot\;Lucida Grande&quot\;\, &quot\;Lucida Sans Unicode&quot\;\, &quot\;Lucida Sans&quot\;\, Tahoma\, sans-serif\; font-size: 16px\; text-align: center\; background-color: rgb(247\, 247\, 247)\;">Journey Care Foundation.</strong>
LOCATION:Midwest Breakfast Company 2207 Rt. 12 Spring Grove\, IL
UID:e.2066.4192
SEQUENCE:3
DTSTAMP:20260423T001639Z
URL:https://dev.chainolakeschamber.com/events/details/community-purse-mchenry-chapter-4192
END:VEVENT

END:VCALENDAR
